BEGIN:VCALENDAR
VERSION:2.0
PRODID:-//Graham Stoney - ECPv6.15.20//NONSGML v1.0//EN
CALSCALE:GREGORIAN
METHOD:PUBLISH
X-ORIGINAL-URL:https://grahamstoney.com
X-WR-CALDESC:Events for Graham Stoney
REFRESH-INTERVAL;VALUE=DURATION:PT1H
X-Robots-Tag:noindex
X-PUBLISHED-TTL:PT1H
BEGIN:VTIMEZONE
TZID:Australia/Sydney
BEGIN:STANDARD
TZOFFSETFROM:+1100
TZOFFSETTO:+1000
TZNAME:AEST
DTSTART:20180331T160000
END:STANDARD
BEGIN:DAYLIGHT
TZOFFSETFROM:+1000
TZOFFSETTO:+1100
TZNAME:AEDT
DTSTART:20181006T160000
END:DAYLIGHT
BEGIN:STANDARD
TZOFFSETFROM:+1100
TZOFFSETTO:+1000
TZNAME:AEST
DTSTART:20190406T160000
END:STANDARD
BEGIN:DAYLIGHT
TZOFFSETFROM:+1000
TZOFFSETTO:+1100
TZNAME:AEDT
DTSTART:20191005T160000
END:DAYLIGHT
BEGIN:STANDARD
TZOFFSETFROM:+1100
TZOFFSETTO:+1000
TZNAME:AEST
DTSTART:20200404T160000
END:STANDARD
BEGIN:DAYLIGHT
TZOFFSETFROM:+1000
TZOFFSETTO:+1100
TZNAME:AEDT
DTSTART:20201003T160000
END:DAYLIGHT
END:VTIMEZONE
BEGIN:VEVENT
DTSTART;TZID=Australia/Sydney:20191128T190000
DTEND;TZID=Australia/Sydney:20191128T220000
DTSTAMP:20260424T171327
CREATED:20191122T011814Z
LAST-MODIFIED:20191122T011814Z
UID:3072-1574967600-1574978400@grahamstoney.com
SUMMARY:Final Advanced Diploma End Of Year Concert
DESCRIPTION:This is it folks\, the one you’ve been waiting for! After 3 glorious years\, my time at TAFE is coming to an end. To celebrate\, we’re throwing the biggest concert ever. Come and watch the most senior music performance students from Sydney TAFE in Ultimo perform a veritable powerhouse of original songs and classy covers in their end of year concert. \nThis is going to be the best show Foundry 616 has hosted yet\, or your hyperbole back. \n$5 entry at the door. Bring your friends and family as it’s sure to be a great night. \nClick here for the Facebook event.
URL:https://grahamstoney.com/event/final-advanced-diploma-end-of-year-concert
LOCATION:Foundry 616\, 616-620 Harris Street\, Ultimo\, New South Wales\, Australia
CATEGORIES:Music
ATTACH;FMTTYPE=image/jpeg:https://grahamstoney.com/wp-content/uploads/Advanced-Diploma-End-Of-Year-Concert.jpg
END:VEVENT
BEGIN:VEVENT
DTSTART;TZID=Australia/Sydney:20191116T152000
DTEND;TZID=Australia/Sydney:20191116T154000
DTSTAMP:20260424T171327
CREATED:20191019T231852Z
LAST-MODIFIED:20191019T231852Z
UID:2914-1573917600-1573918800@grahamstoney.com
SUMMARY:St. Anmore Festival of Music
DESCRIPTION:I was fortunate to participate in the Sydney Flash Mob Choir led by conductor and music educator Richard Gill just a few months before his death. Margot & Graham will be performing at the St. Anmore Music Festival held in his honour on 16th November 2019 in Stanmore. \nWe will be playing a set of all originals at the Corner Gallery from 3:20 – 3:40pm. Our details on the event website are here. \nFor more details about the festival\, check the Stanmore Music Festival website\, like the Facebook page and share the Facebook event with your friends. \nIt’s gonna be awesome!
URL:https://grahamstoney.com/event/st-anmore-festival-of-music
LOCATION:The Corner Gallery\, Percival Road & Myrtle St\, Stanmore\, NSW\, 2026\, Australia
CATEGORIES:Music
ATTACH;FMTTYPE=image/jpeg:https://grahamstoney.com/wp-content/uploads/Margot-and-Graham-900x720.jpg
END:VEVENT
BEGIN:VEVENT
DTSTART;TZID=Australia/Sydney:20191103T150000
DTEND;TZID=Australia/Sydney:20191103T180000
DTSTAMP:20260424T171327
CREATED:20191024T044328Z
LAST-MODIFIED:20191024T044328Z
UID:2947-1572793200-1572804000@grahamstoney.com
SUMMARY:Margot and Graham Play SongsOnStage's Best and Faves Show
DESCRIPTION:As a past winner of the Songs On Stage Open Mic night that used to be on at The Annandale Hotel on Tuesdays\, Margot and Graham will be joining the other most popular acts on Sunday afternoon November 3. Come and relive all the fun of open mic at this iconic Sydney live music venue. \nFree entry. Check in at the Facebook Event if you’re coming and/or show your support by liking the Facebook Page for Margot and Graham.
URL:https://grahamstoney.com/event/margot-and-graham-play-songsonstages-best-and-faves-show
LOCATION:Annandale Hotel\, 17 Parramatta Road\, Annandale\, NSW\, 2038\, Australia
CATEGORIES:Music
ATTACH;FMTTYPE=image/jpeg:https://grahamstoney.com/wp-content/uploads/Annandale-Hotel.jpg
END:VEVENT
END:VCALENDAR