BEGIN:VCALENDAR
VERSION:2.0
PRODID:-//Graham Stoney - ECPv6.15.20//NONSGML v1.0//EN
CALSCALE:GREGORIAN
METHOD:PUBLISH
X-WR-CALNAME:Graham Stoney
X-ORIGINAL-URL:https://grahamstoney.com
X-WR-CALDESC:Events for Graham Stoney
REFRESH-INTERVAL;VALUE=DURATION:PT1H
X-Robots-Tag:noindex
X-PUBLISHED-TTL:PT1H
BEGIN:VTIMEZONE
TZID:Australia/Sydney
BEGIN:STANDARD
TZOFFSETFROM:+1100
TZOFFSETTO:+1000
TZNAME:AEST
DTSTART:20210403T160000
END:STANDARD
BEGIN:DAYLIGHT
TZOFFSETFROM:+1000
TZOFFSETTO:+1100
TZNAME:AEDT
DTSTART:20211002T160000
END:DAYLIGHT
BEGIN:STANDARD
TZOFFSETFROM:+1100
TZOFFSETTO:+1000
TZNAME:AEST
DTSTART:20220402T160000
END:STANDARD
BEGIN:DAYLIGHT
TZOFFSETFROM:+1000
TZOFFSETTO:+1100
TZNAME:AEDT
DTSTART:20221001T160000
END:DAYLIGHT
BEGIN:STANDARD
TZOFFSETFROM:+1100
TZOFFSETTO:+1000
TZNAME:AEST
DTSTART:20230401T160000
END:STANDARD
BEGIN:DAYLIGHT
TZOFFSETFROM:+1000
TZOFFSETTO:+1100
TZNAME:AEDT
DTSTART:20230930T160000
END:DAYLIGHT
END:VTIMEZONE
BEGIN:VEVENT
DTSTART;TZID=Australia/Sydney:20221012T183000
DTEND;TZID=Australia/Sydney:20221012T213000
DTSTAMP:20260424T171214
CREATED:20221002T095331Z
LAST-MODIFIED:20221002T095331Z
UID:4154-1665599400-1665610200@grahamstoney.com
SUMMARY:Sydney University Musical Theatre Ensemble (MUSE) Presents Guys and Dolls
DESCRIPTION:I’m playing a temperamental gangster thug gambler named Big Jule in Sydney University Musical Theatre Ensemble (MUSE’s) upcoming production of Guys & Dolls\, and if the rehearsals are anything to go by it’s going to be REALLY FUN to watch. \nThe show is on 12-15th October at the ARA Theatre in Darling Quarter and tickets are available by clicking here. I’d love you to come\, bring your friends and family\, and join in the fun. Please put my name in the box saying who you’re coming to support when you buy your tickets\, so I can win a new set of dice. \nPlease let your friends know you’re coming via RSVP on the Facebook event.
URL:https://grahamstoney.com/event/sydney-university-musical-theatre-ensemble-muse-presents-guys-and-dolls
LOCATION:ARA Darling Quarter Theater\, 3/1-25 Harbour St\, Sydney\, NSW\, 2000\, Australia
CATEGORIES:Theatre
ATTACH;FMTTYPE=image/jpeg:https://grahamstoney.com/wp-content/uploads/Graham-Stoney-as-Big-Jule.jpg
END:VEVENT
END:VCALENDAR